BEGIN:VCALENDAR
VERSION:2.0
PRODID:-//Schule der Kostbarkeiten - ECPv6.9.0//NONSGML v1.0//EN
CALSCALE:GREGORIAN
METHOD:PUBLISH
X-WR-CALNAME:Schule der Kostbarkeiten
X-ORIGINAL-URL:https://www.kostbarleben.jetzt
X-WR-CALDESC:Veranstaltungen für Schule der Kostbarkeiten
REFRESH-INTERVAL;VALUE=DURATION:PT1H
X-Robots-Tag:noindex
X-PUBLISHED-TTL:PT1H
BEGIN:VTIMEZONE
TZID:Europe/Vienna
BEGIN:DAYLIGHT
TZOFFSETFROM:+0100
TZOFFSETTO:+0200
TZNAME:CEST
DTSTART:20240331T010000
END:DAYLIGHT
BEGIN:STANDARD
TZOFFSETFROM:+0200
TZOFFSETTO:+0100
TZNAME:CET
DTSTART:20241027T010000
END:STANDARD
END:VTIMEZONE
BEGIN:VEVENT
DTSTART;TZID=Europe/Vienna:20240331T080000
DTEND;TZID=Europe/Vienna:20240331T103000
DTSTAMP:20260420T161611
CREATED:20240327T102930Z
LAST-MODIFIED:20240327T102930Z
UID:4492-1711872000-1711881000@www.kostbarleben.jetzt
SUMMARY:Auferstehung. Frauenliturgie
DESCRIPTION:
URL:https://www.kostbarleben.jetzt/event/auferstehung-frauenliturgie/
LOCATION:Villa Sophia\, Gerichtsfeldgasse 3\, Ratzersdorf an der Traisen\, Niederösterreich\, 3100\, Österreich
ATTACH;FMTTYPE=image/jpeg:https://www.kostbarleben.jetzt/wp-content/uploads/Mandel-oder-Pfirsichbluete-mini.jpg
ORGANIZER;CN="MMag. Dagmar Ruhm":MAILTO:dagmar.ruhm@kostbarleben.jetzt
END:VEVENT
END:VCALENDAR